BEGIN:VCALENDAR
VERSION:2.0
PRODID:-//KSB Academy - ECPv6.11.2.1//NONSGML v1.0//EN
CALSCALE:GREGORIAN
METHOD:PUBLISH
X-WR-CALNAME:KSB Academy
X-ORIGINAL-URL:https://ksbacademy.com
X-WR-CALDESC:Eventos para KSB Academy
REFRESH-INTERVAL;VALUE=DURATION:PT1H
X-Robots-Tag:noindex
X-PUBLISHED-TTL:PT1H
BEGIN:VTIMEZONE
TZID:America/Sao_Paulo
BEGIN:STANDARD
TZOFFSETFROM:-0300
TZOFFSETTO:-0300
TZNAME:-03
DTSTART:20250101T000000
END:STANDARD
END:VTIMEZONE
BEGIN:VEVENT
DTSTART;TZID=America/Sao_Paulo:20250719T210000
DTEND;TZID=America/Sao_Paulo:20250719T210000
DTSTAMP:20260423T041842
CREATED:20250508T130035Z
LAST-MODIFIED:20250717T145651Z
UID:10000001-1752958800-1752958800@ksbacademy.com
SUMMARY:LIQUID PULSE [SESSIONS] - ED:00\, PILOTO
DESCRIPTION:ACONTECE SÓ UMA VEZ. E VOCÊ VAI ESTAR DENTRO DO TAKE QUE INAUGURA A HISTÓRIA!\nImagine atravessar as portas da Koala San Brew depois do expediente e descobrir que a fábrica virou uma pista clandestina. \nO que vai rolar\n•⁠ ⁠DJ Koteca posicionado no centro do salão da fábrica\, rodeado por tanques de inox\, lasers cortando a névoa\, projeção no telão e aquele grave que trepida no peito.\n•⁠ ⁠Público em 360 ° — sem palco\, sem barreiras\, todo mundo na mesma linha de fogo sonora.\n•⁠ ⁠Iluminação mínima\, fumaça máxima: a estética industrial vira cenário de videoclipe\, e cada rosto capturado pela câmera vira parte do registro oficial da noite. \nPor que é diferente\n1.Primeira tomada – É a gravação zero da série. O formato ainda está sendo definido — e você participa desse experimento ao vivo.\n2.Formato imersivo – Não há “frente” ou “atrás”: a vibe se constrói coletivamente ao redor do DJ.\n3.Filmagem ao vivo – Toda a sessão será gravada em take contínuo. Quem estiver lá entra para a história do episódio zero da série.\n4.Guest list selada – Sem ingressos abertos. Cada convite é nominal e intransferível. Se você recebeu este link\, parabéns: já está a meio caminho do tanque.\n5.One-off – Sem reprise\, sem streaming posterior. A única forma de sentir é estar presente — ou ficar de fora e ouvir falar depois. \nDetalhes práticos\n•Data: Sábado\, 21h → portas fecham às 22h (não há entrada tardia)\n•Local: Piso de produção da Koala San Brew\, Jardim Canadá\, MG\n•Dress code: Vista seu outfit mais autêntico\, aquele que você guarda para os dias mais especiais; tênis confortáveis recomendados\n•Bar: Chope fresco direto dos tanques + Drinks na torneira\n•Capacidade: LIMITADA!!! (quando atingir o limite\, encerramos o cadastro!) \nComo garantir seu lugar\nClique no botão “Quero meu convite” abaixo\, preencha seu nome completo e aguarde o e-mail de confirmação com QR Code. Sem confirmação\, sem entrada. Simples assim. \n***AVISO: filmagem full-frame e captação de áudio estarão em curso durante todo o evento. Ao confirmar presença\, você autoriza o uso de sua imagem na edição final do vídeo. \nPRONTO PARA ENTRAR NO PULSO LÍQUIDO? A contagem regressiva já começou. Quem vive\, sabe. Quem perde\, só ouve falar.
URL:https://ksbacademy.com/event/liquid-pulse/
LOCATION:Koala San Brew\, Rua Niágara\, 339\, Nova Lima\, Minas Gerais\, 34000000\, Brazil
END:VEVENT
END:VCALENDAR